BEGIN:VCALENDAR
VERSION:2.0
PRODID:-//81.19.145.34//NONSGML kigkonsult.se iCalcreator 2.20//
CALSCALE:GREGORIAN
METHOD:PUBLISH
X-WR-TIMEZONE:UTC
BEGIN:VEVENT
UID:event762@Anita Wagner - Offizielle Website
DTSTAMP:20260420T201132Z
CATEGORIES:Veranstaltungen 
DESCRIPTION:Anita Wagner singt die schönsten Weihnachtslieder an der Hotelb
 ar\nKategorie: Veranstaltungen \nICS-Link: http://www.anita-musik.at/index
 .php?option=com_jem&view=event&id=762:anita-wagner-singt-die-schoensten-we
 ihnachtslieder-an-der-hotelbar\n
DTSTART:20211223T193000Z
DTEND:20211223T193000Z
LOCATION:VIVEA Gesundheitshotel 'Zur Quelle'\,Landsknechteplatz 1\, 2853 Ba
 d Schönau
SUMMARY:Anita Wagner singt die schönsten Weihnachtslieder an der Hotelbar
URL:http://www.anita-musik.at/index.php?option=com_jem&view=event&id=762:an
 ita-wagner-singt-die-schoensten-weihnachtslieder-an-der-hotelbar
END:VEVENT
END:VCALENDAR
