BEGIN:VCALENDAR
VERSION:2.0
PRODID:-//81.19.145.34//NONSGML kigkonsult.se iCalcreator 2.20//
CALSCALE:GREGORIAN
METHOD:PUBLISH
X-WR-TIMEZONE:UTC
BEGIN:VEVENT
UID:event761@Anita Wagner - Offizielle Website
DTSTAMP:20260424T014952Z
CATEGORIES:Veranstaltungen 
DESCRIPTION:ABSAGE wegen CORONA\nKategorie: Veranstaltungen \nICS-Link: htt
 p://www.anita-musik.at/index.php?option=com_jem&view=event&id=761:music-at
 -its-best-mit-anita-vanessa-an-der-hotelbar\n
DTSTART:20211211T210000Z
DTEND:20211211T210000Z
LOCATION:Spa Resort Styria\,Buchgreithweg 351\, 8271 Bad Waltersdorf
SUMMARY:ABSAGE wegen CORONA
URL:http://www.anita-musik.at/index.php?option=com_jem&view=event&id=761:mu
 sic-at-its-best-mit-anita-vanessa-an-der-hotelbar
END:VEVENT
END:VCALENDAR
